Workbook
Name Segment_Agence: #N/A
Name Segment_AGENCE1: #N/A
Name Segment_Agence2: #N/A
Name Segment_Date: #N/A
Name Segment_DATE1: #N/A

Sheet TP - 01
C2: TOTAL CA | D2: =SUM(Tableau1[CA]) -> 443800
C4: SUR FILTRE
C5: TOTAL | D5: =SUBTOTAL(9,Tableau1[CA]) -> 443800
C6: MOYENNE | D6: =SUBTOTAL(1,Tableau1[CA]) -> 29586.667
C7: CA PLUS IMPORTANT | D7: =SUBTOTAL(4,Tableau1[CA]) -> 55000
C8: CA MOINS IMPORTANT | D8: =SUBTOTAL(5,Tableau1[CA]) -> 14800
C9: NOMBRE | D9: =SUBTOTAL(3,Tableau1[CA]) -> 15
C10: RATIO CA FILTRE / CA | D10: =D5/D2 -> 1
B12: Date | C12: Agence | D12: CA
B13: 43831 | C13: Lille | D13: 25000
B14: 43831 | C14: Paris | D14: 25000
B15: 43831 | C15: Lyon | D15: 15500
B16: 43862 | C16: Lille | D16: 32000
B17: 43862 | C17: Paris | D17: 14800
B18: 43862 | C18: Lyon | D18: 34900
B19: 43891 | C19: Lille | D19: 17500
B20: 43891 | C20: Paris | D20: 22900
B21: 43891 | C21: Lyon | D21: 41000
B22: 44197 | C22: Lille | D22: 55000
B23: 44197 | C23: Paris | D23: 42800
B24: 44197 | C24: Lyon | D24: 19500
... B27: 44228 | C27: Lyon | D27: 48900

Sheet EX 01
A1: ?
A3: TOTAL | B3: =SUM(tbl_Saisie[CA]) -> 262700
A4: TOTAL FILTRÉ | B4: =SUBTOTAL(9,tbl_Saisie[CA]) -> 194300
A5: MOYENNE FILTRÉ | B5: =SUBTOTAL(1,tbl_Saisie[CA]) -> 38860
A6: MAX FILTRÉ | B6: =SUBTOTAL(4,tbl_Saisie[CA]) -> 55000
A7: MIN FILTRÉ | B7: =SUBTOTAL(5,tbl_Saisie[CA]) -> 22500
A9: Date | B9: Agence | C9: CA
A10: 44197 | B10: Lille | C10: 55000
A11: 44197 | B11: Paris | C11: 42800
A12: 44197 | B12: Lyon | C12: 19500
A13: 44228 | B13: Lille | C13: 22500
A14: 44228 | B14: Paris | C14: 26500
A15: 44228 | B15: Lyon | C15: 48900
A16: 44256 | B16: Lille | C16: 47500

Sheet CALCUL INTERMEDIAIRE
B2: TOTAL | C2: =B2 & CHAR(10) & TEXT('EX 01'!B3,"# ##0 €") -> TOTAL 262 700 €
B3: TOTAL FILTRÉ | C3: =B3 & CHAR(10) & TEXT('EX 01'!B4,"# ##0 €") -> TOTAL FILTRÉ 194 300 €
B4: MOYENNE FILTRÉ | C4: =B4 & CHAR(10) & TEXT('EX 01'!B5,"# ##0 €") -> MOYENNE FILTRÉ 38 860 €
B5: MAX FILTRÉ | C5: =B5 & CHAR(10) & TEXT('EX 01'!B6,"# ##0 €") -> MAX FILTRÉ 55 000 €
B6: MIN FILTRÉ | C6: =B6 & CHAR(10) & TEXT('EX 01'!B7,"# ##0 €") -> MIN FILTRÉ 22 500 €

Sheet TABLEAU DE BORD

Sheet LISTE
B3: Date | C3: Agence | D3: CA
B4: 43831 | C4: Lille | D4: 25000
B5: 43831 | C5: Paris | D5: 25000
B6: 43831 | C6: Lyon | D6: 15500
B7: 43862 | C7: Lille | D7: 32000
B8: 43862 | C8: Paris | D8: 14800
B9: 43862 | C9: Lyon | D9: 34900
B10: 43891 | C10: Lille | D10: 17500
B11: 43891 | C11: Paris | D11: 22900
B12: 43891 | C12: Lyon | D12: 41000
B13: 44197 | C13: Lille | D13: 55000
B14: 44197 | C14: Paris | D14: 42800
B15: 44197 | C15: Lyon | D15: 19500
... B18: 44228 | C18: Lyon | D18: 48900

Sheet Dashboard
B7: TOTAL CA | C7: =SUM(tbl_Liste[[#All],[CA]]) -> 443800
B9: SUR FILTRE
B10: TOTAL | C10: =SUBTOTAL(9,tbl_Liste[CA]) -> 97900
B11: MOYENNE | C11: =SUBTOTAL(1,tbl_Liste[CA]) -> 32633.333
B12: CA PLUS IMPORTANT | C12: =SUBTOTAL(4,tbl_Liste[CA]) -> 48900
B13: CA MOINS IMPORTANT | C13: =SUBTOTAL(5,tbl_Liste[CA]) -> 22500
B14: NOMBRE | C14: =SUBTOTAL(2,tbl_Liste[CA]) -> 3
B15: RATIO CA FILTRE / CA | C15: =C10/C7 -> 0.22059486
B16: RESTE | C16: =1-C15 -> 0.77940514

Sheet Feuil1
B1: SUR DONNEES FILTREES | C1: SOMME CA TTC | D1: =SUBTOTAL(9,tbl_Suivi_Administratif[CA TTC]) -> 180240
C2: MOYENNE CA TTC | D2: =SUBTOTAL(1,tbl_Suivi_Administratif[CA TTC]) -> 25748.571
C3: MAX CA TTC | D3: =SUBTOTAL(4,tbl_Suivi_Administratif[CA TTC]) -> 38400
C4: MIN CA TTC | D4: =SUBTOTAL(5,tbl_Suivi_Administratif[CA TTC]) -> 18960
C5: TOTAL GENERAL | D5: =SUM(tbl_Suivi_Administratif[CA TTC]) -> 180240
A11: DATE | B11: AGENCE | C11: CA HT | D11: CA TTC
A12: 44197 | B12: Lille | C12: 25000 | D12: =Feuil1!$C12*(1+20%) -> 30000
A13: 44199 | B13: Paris | C13: 32000 | D13: =Feuil1!$C13*(1+20%) -> 38400
A14: 44206 | B14: Lyon | C14: 17500 | D14: =Feuil1!$C14*(1+20%) -> 21000
A15: 44230 | B15: Paris | C15: 22000 | D15: =Feuil1!$C15*(1+20%) -> 26400
A16: 44242 | B16: Lyon | C16: 15800 | D16: =Feuil1!$C16*(1+20%) -> 18960
A17: 44269 | B17: Lille | C17: 15800 | D17: =Feuil1!$C17*(1+20%) -> 18960
A18: 44280 | B18: Paris | C18: 22100 | D18: =Feuil1!$C18*(1+20%) -> 26520
