Workbook

Sheet EX 01
A1: Prénom | B1: Nom | C1: Sexe | D1: Adresse | E1: Ville | F1: Code Postal | G1: Birthday | H1: Voiture | I1: Dept | J1: Age
A2: Alaine | B2: Harquin | C2: Femme | D2: 9 cours Franklin Roosevelt | E2: MARSEILLE | F2: 13007 | G2: 25348 | H2: 1999 Daewoo Arcadia | I2: =VALUE(LEFT('EX 01'!$F2,2)) -> 13 | J2: =DATEDIF('EX 01'!$G2,TODAY(),"Y") -> 53
A3: Albertine | B3: D'Aoust | C3: Femme | D3: 59 rue Goya | E3: LE MOULE | F3: 97160 | G3: 25915 | H3: 2000 Mazda B2500 | I3: =VALUE(LEFT('EX 01'!$F3,2)) -> 97 | J3: =DATEDIF('EX 01'!$G3,TODAY(),"Y") -> 52
A4: Alexandre | B4: Arnoux | C4: Homme | D4: 80 rue des Lacs | E4: HERBLAY | F4: 95220 | G4: 32973 | H4: 2000 Opel Signum | I4: =VALUE(LEFT('EX 01'!$F4,2)) -> 95 | J4: =DATEDIF('EX 01'!$G4,TODAY(),"Y") -> 33
A5: Alexis | B5: Audibert | C5: Homme | D5: 63 avenue Ferdinand de Lesseps | E5: GRENOBLE | F5: 38000 | G5: 27151 | H5: 2002 Ford Lynx | I5: =VALUE(LEFT('EX 01'!$F5,2)) -> 38 | J5: =DATEDIF('EX 01'!$G5,TODAY(),"Y") -> 48
A6: Amber | B6: Chatigny | C6: Femme | D6: 88 rue Gouin de Beauchesne | E6: SAINT-NAZAIRE | F6: 44600 | G6: 27803 | H6: 1993 Chrysler Expresso | I6: =VALUE(LEFT('EX 01'!$F6,2)) -> 44 | J6: =DATEDIF('EX 01'!$G6,TODAY(),"Y") -> 47
A7: Ansel | B7: Fortin | C7: Homme | D7: 59 rue Marie de Médicis | E7: BIARRITZ | F7: 64200 | G7: 25998 | H7: 2002 Mercedes-Benz G | I7: =VALUE(LEFT('EX 01'!$F7,2)) -> 64 | J7: =DATEDIF('EX 01'!$G7,TODAY(),"Y") -> 52
A8: Antoinette | B8: Desroches | C8: Femme | D8: 48 rue Banaudon | E8: LYON | F8: 69006 | G8: 34213 | H8: 1998 Daihatsu Domino | I8: =VALUE(LEFT('EX 01'!$F8,2)) -> 69 | J8: =DATEDIF('EX 01'!$G8,TODAY(),"Y") -> 29
A9: Arianne | B9: Bossé | C9: Femme | D9: 40 rue Goya | E9: LE MANS | F9: 72000 | G9: 20562 | H9: 1995 Pontiac Firebird | I9: =VALUE(LEFT('EX 01'!$F9,2)) -> 72 | J9: =DATEDIF('EX 01'!$G9,TODAY(),"Y") -> 67
A10: Arienne | B10: Beaulé | C10: Femme | D10: 44 Rue St Ferréol | E10: METZ | F10: 57070 | G10: 35270 | H10: 2015 Infiniti QX60 | I10: =VALUE(LEFT('EX 01'!$F10,2)) -> 57 | J10: =DATEDIF('EX 01'!$G10,TODAY(),"Y") -> 26
A11: Astolpho | B11: Perreault | C11: Homme | D11: 29 rue Reine Elisabeth | E11: MÉRIGNAC | F11: 33700 | G11: 34114 | H11: 1996 Nissan Stagea | I11: =VALUE(LEFT('EX 01'!$F11,2)) -> 33 | J11: =DATEDIF('EX 01'!$G11,TODAY(),"Y") -> 29
A12: Astrid | B12: Poissonnier | C12: Femme | D12: 81 rue Jean-Monnet | E12: GONESSE | F12: 95500 | G12: 24259 | H12: 2011 Peugeot 508 | I12: =VALUE(LEFT('EX 01'!$F12,2)) -> 95 | J12: =DATEDIF('EX 01'!$G12,TODAY(),"Y") -> 56
A13: Aubrette | B13: Mailly | C13: Femme | D13: 4 Rue de Verdun | E13: MONTÉLIMAR | F13: 26200 | G13: 21048 | H13: 2005 Seat Cordoba | I13: =VALUE(LEFT('EX 01'!$F13,2)) -> 26 | J13: =DATEDIF('EX 01'!$G13,TODAY(),"Y") -> 65
... A92: Yseult | B92: Bondy | C92: Femme | D92: 49 rue Marguerite | E92: VILLEURBANNE | F92: 69100 | G92: 25305 | H92: 2005 Kia Spectra | I92: =VALUE(LEFT('EX 01'!$F92,2)) -> 69 | J92: =DATEDIF('EX 01'!$G92,TODAY(),"Y") -> 54
